BEGIN:VCALENDAR
VERSION:2.0
PRODID:-//Sophicity/Tribune/Midway, KY
BEGIN:VEVENT
DTSTAMP:20260425T013627Z
UID:3b29fe0f-a6f5-4a24-a8c3-7164fb90467d-5091
DTSTART:20251016T213000Z
DTEND:20251016T223000Z
LOCATION:101 E Main St. Midway, KY 
CLASS:PUBLIC
SUMMARY:Midway Police Budget Task Force Meeting #3
END:VEVENT
END:VCALENDAR
