BEGIN:VCALENDAR
VERSION:2.0
PRODID:-//Sophicity/Tribune/Midway, KY
BEGIN:VEVENT
DTSTAMP:20260425T013929Z
UID:3b29fe0f-a6f5-4a24-a8c3-7164fb90467d-5093
DTSTART:20251025T140000Z
DTEND:20251026T000000Z
LOCATION:Bluegrass Distillers
CLASS:PUBLIC
SUMMARY:Plein Air Painting Event
END:VEVENT
END:VCALENDAR
