BEGIN:VCALENDAR
VERSION:2.0
PRODID:-//Sophicity/Tribune/Midway, KY
BEGIN:VEVENT
DTSTAMP:20260424T235805Z
UID:3b29fe0f-a6f5-4a24-a8c3-7164fb90467d-5094
DTSTART:20251028T213000Z
DTEND:20251028T223000Z
LOCATION:101 E Main St.  Midway, Ky 40347
CLASS:PUBLIC
SUMMARY:Cemetery & City Property Committee Meeting
END:VEVENT
END:VCALENDAR
