BEGIN:VCALENDAR
VERSION:2.0
PRODID:-//Sophicity/Tribune/Midway, KY
BEGIN:VEVENT
DTSTAMP:20260424T235709Z
UID:3b29fe0f-a6f5-4a24-a8c3-7164fb90467d-5096
DTSTART:20251118T230000Z
DTEND:20251118T230000Z
CLASS:PUBLIC
SUMMARY:Midway Code Enforcement Board Special Meeting
END:VEVENT
END:VCALENDAR
