BEGIN:VCALENDAR
VERSION:2.0
PRODID:-//Sophicity/Tribune/Midway, KY
BEGIN:VEVENT
DTSTAMP:20260424T154207Z
UID:3b29fe0f-a6f5-4a24-a8c3-7164fb90467d-5104
DTSTART:20260406T213000Z
DTEND:20260406T223000Z
LOCATION:101 E Main St. Midway KY
CLASS:PUBLIC
SUMMARY:Regular Council Meeting
END:VEVENT
END:VCALENDAR
