BEGIN:VCALENDAR
VERSION:2.0
PRODID:-//Sophicity/Tribune/Midway, KY
BEGIN:VEVENT
DTSTAMP:20260424T153929Z
UID:3b29fe0f-a6f5-4a24-a8c3-7164fb90467d-5124
DTSTART:20260403T040000Z
DTEND:20260404T035900Z
LOCATION:Midway City Hall
CLASS:PUBLIC
SUMMARY:City Hall Closed - Good Friday
END:VEVENT
END:VCALENDAR
