BEGIN:VCALENDAR
VERSION:2.0
PRODID:-//Sophicity/Tribune/Midway, KY
BEGIN:VEVENT
DTSTAMP:20260424T235804Z
UID:3b29fe0f-a6f5-4a24-a8c3-7164fb90467d-5131
DTSTART:20261224T050000Z
DTEND:20261225T045900Z
LOCATION:Midway City Hall
CLASS:PUBLIC
SUMMARY:City Hall Closed - Christmas Eve
END:VEVENT
END:VCALENDAR
