BEGIN:VCALENDAR
VERSION:2.0
PRODID:-//Sophicity/Tribune/Midway, KY
BEGIN:VEVENT
DTSTAMP:20260424T221617Z
UID:3b29fe0f-a6f5-4a24-a8c3-7164fb90467d-5134
DTSTART:20270101T050000Z
DTEND:20270102T045900Z
LOCATION:Midway City Hall
CLASS:PUBLIC
SUMMARY:City Hall Closed - New Years Day
END:VEVENT
END:VCALENDAR
