BEGIN:VCALENDAR
VERSION:2.0
PRODID:-//Sophicity/Tribune/Midway, KY
BEGIN:VEVENT
DTSTAMP:20260424T202811Z
UID:3b29fe0f-a6f5-4a24-a8c3-7164fb90467d-5135
DTSTART:20260128T180000Z
DTEND:20260128T190000Z
LOCATION:Midway Branch
CLASS:PUBLIC
SUMMARY:Preventing Falls
END:VEVENT
END:VCALENDAR
