BEGIN:VCALENDAR
VERSION:2.0
PRODID:-//Sophicity/Tribune/Midway, KY
BEGIN:VEVENT
DTSTAMP:20260424T185359Z
UID:3b29fe0f-a6f5-4a24-a8c3-7164fb90467d-5150
DTSTART:20260212T223000Z
DTEND:20260212T233000Z
LOCATION:Midway Library
CLASS:PUBLIC
SUMMARY:Park Board Meeting
END:VEVENT
END:VCALENDAR
