BEGIN:VCALENDAR
VERSION:2.0
PRODID:-//Sophicity/Tribune/Midway, KY
BEGIN:VEVENT
DTSTAMP:20260424T185036Z
UID:3b29fe0f-a6f5-4a24-a8c3-7164fb90467d-5162
DTSTART:20260226T180000Z
DTEND:20260226T190000Z
LOCATION:Woodford County Library
CLASS:PUBLIC
SUMMARY:Coping with the Winter Blues
END:VEVENT
END:VCALENDAR
