BEGIN:VCALENDAR
VERSION:2.0
PRODID:-//Sophicity/Tribune/Midway, KY
BEGIN:VEVENT
DTSTAMP:20260424T185158Z
UID:3b29fe0f-a6f5-4a24-a8c3-7164fb90467d-5165
DTSTART:20260221T190000Z
DTEND:20260221T210000Z
LOCATION:Woodford County Library
CLASS:PUBLIC
SUMMARY:Conversations Commemorating 100 Years of Black American History
END:VEVENT
END:VCALENDAR
