BEGIN:VCALENDAR
VERSION:2.0
PRODID:-//Sophicity/Tribune/Midway, KY
BEGIN:VEVENT
DTSTAMP:20260424T171902Z
UID:3b29fe0f-a6f5-4a24-a8c3-7164fb90467d-5167
DTSTART:20260325T220000Z
DTEND:20260325T230000Z
LOCATION:Woodford County Library
CLASS:PUBLIC
SUMMARY:ReFit Dance Fitness
END:VEVENT
END:VCALENDAR
