BEGIN:VCALENDAR
VERSION:2.0
PRODID:-//Sophicity/Tribune/Midway, KY
BEGIN:VEVENT
DTSTAMP:20260424T172037Z
UID:3b29fe0f-a6f5-4a24-a8c3-7164fb90467d-5168
DTSTART:20260318T223000Z
DTEND:20260318T233000Z
LOCATION:Woodford County Library
CLASS:PUBLIC
SUMMARY:Estate Planning 101
END:VEVENT
END:VCALENDAR
