BEGIN:VCALENDAR
VERSION:2.0
PRODID:-//Sophicity/Tribune/Midway, KY
BEGIN:VEVENT
DTSTAMP:20260424T171902Z
UID:3b29fe0f-a6f5-4a24-a8c3-7164fb90467d-5169
DTSTART:20260319T223000Z
DTEND:20260319T233000Z
LOCATION:Woodford County Library
CLASS:PUBLIC
SUMMARY:Kentucky Women's History
END:VEVENT
END:VCALENDAR
