BEGIN:VCALENDAR
VERSION:2.0
PRODID:-//Sophicity/Tribune/Midway, KY
BEGIN:VEVENT
DTSTAMP:20260424T171516Z
UID:3b29fe0f-a6f5-4a24-a8c3-7164fb90467d-5171
DTSTART:20260325T213000Z
DTEND:20260325T213000Z
LOCATION:101 E Main St. Midway Ky
CLASS:PUBLIC
SUMMARY:Special Council Meeting
END:VEVENT
END:VCALENDAR
