BEGIN:VCALENDAR
VERSION:2.0
PRODID:-//Sophicity/Tribune/Midway, KY
BEGIN:VEVENT
DTSTAMP:20260424T221237Z
UID:3b29fe0f-a6f5-4a24-a8c3-7164fb90467d-5177
DTSTART:20260815T140000Z
DTEND:20260815T160000Z
CLASS:PUBLIC
SUMMARY:Walter Bradley Park Volunteer Days
END:VEVENT
END:VCALENDAR
