BEGIN:VCALENDAR
VERSION:2.0
PRODID:-//Sophicity/Tribune/Midway, KY
BEGIN:VEVENT
DTSTAMP:20260425T013459Z
UID:3b29fe0f-a6f5-4a24-a8c3-7164fb90467d-5180
DTSTART:20261121T150000Z
DTEND:20261121T170000Z
CLASS:PUBLIC
SUMMARY:Walter Bradley Park Volunteer Days
END:VEVENT
END:VCALENDAR
